BEGIN:VCALENDAR
VERSION:2.0
PRODID:-//hacksw/handcal//NONSGML v1.0//EN
CALSCALE:GREGORIAN
BEGIN:VEVENT
UID:69eb4fa091cf4
DTSTAMP:20260424T111024Z
DESCRIPTION:Join the Mock Convention Executive Board for the second platform hearing\, with the theme of Morality in Politics! You will be able to hear from our panel of experts on topics such as election validity\, LGBTQ+ legislation\, and how morality is conveyed through election messaging. Experts include Dr. Cashen (Psychology)\, Dr. Biser (Politics and Government)\, Dr. Kennard (Communication)\, and OMSA Director Jason Timpson. Anyone is welcome to join us for this exciting event! Follow us on instagram @owumockconvention2024 for updates!&nbsp\;
OWU Sponsoring Organization/Office: Mock ConventionContact: Anna Nacci at&nbsp\;mock2024@owu.edu
&nbsp\;
SUMMARY:Mock Convention Platform Hearing #2
DTSTART:20231018T160000Z
DTEND:20231018T170000Z
END:VEVENT
END:VCALENDAR
