BEGIN:VCALENDAR
VERSION:2.0
PRODID:-//hacksw/handcal//NONSGML v1.0//EN
CALSCALE:GREGORIAN
BEGIN:VEVENT
UID:69ea22ab9a18a
DTSTAMP:20260423T134619Z
DESCRIPTION:Join the Mock Convention Executive Board for the third platform hearing\, with the theme of Inflation and Debt! You will be able to hear from the panel of faculty experts on topics such as student loan forgiveness\, inflation and its impact on everyday people\, and the politics behind economic changes. Experts include Dr. Nestor\, Dr. Choi\, and Dr. Skosples. Anyone is welcome to join us for this exciting event!&nbsp\;
OWU Sponsoring Organization/Office: Mock ConventionContact: Anna Nacci at&nbsp\;mock2024@owu.edu
&nbsp\;
SUMMARY:Mock Convention Platform Hearing - Inflation and Debt
DTSTART:20231102T160000Z
DTEND:20231102T170000Z
END:VEVENT
END:VCALENDAR
