BEGIN:VCALENDAR
VERSION:2.0
PRODID:-//hacksw/handcal//NONSGML v1.0//EN
CALSCALE:GREGORIAN
BEGIN:VEVENT
UID:69ea62762c469
DTSTAMP:20260423T181830Z
DESCRIPTION:Ohio Wesleyan University Monnett Club Meet and Greet&nbsp\;
Join us for an enjoyable afternoon of reconnecting with friends and making new acquaintances. &nbsp\;Ohio Wesleyan University alumnae from Central Ohio are warmly invited to learn more about the Monnett Club and hear about exciting upcoming events.
Sunday\, August 25\, 2024
2-3:30 p.m. EST
Whetstone Branch\, Columbus Metropolitan Library\, 3909 N. High Street\,&nbsp\; Library Meeting Room
Event Highlights:

Networking: Catch up with old friends and make new ones
Information Session: Discover more about the Monnett Club and future events
Refreshments: Light refreshments will be served
Weather permitting: Take some time to visit the nearby Columbus Park of Roses. Enjoy a leisurely stroll among the beautiful rose gardens.

This is a free event.
&nbsp\;
Click HERE to Register.
SUMMARY:Monnett Club - August 2024
DTSTART:20240825T180000Z
DTEND:20240825T193000Z
END:VEVENT
END:VCALENDAR
