BEGIN:VCALENDAR
VERSION:2.0
PRODID:-//hacksw/handcal//NONSGML v1.0//EN
CALSCALE:GREGORIAN
BEGIN:VEVENT
UID:69e7cfcea5358
DTSTAMP:20260421T192814Z
DESCRIPTION:Start your day in a rejuvenating way with Counseling Services! We will be in the HWCC Chapel on Tuesday\, 11/5\, from 9-11am with guided exercises for gentle stretches to wake up your body and meditation exercises to center your mind. No matter your experience level\, everyone is welcome to attend! No RSVP is required. Hot tea and hot chocolate will also be available.
OWU Sponsoring Organization/Office: Counseling ServicesContact: Vicki Blommel at&nbsp\;vsblomme@owu.edu
SUMMARY:Morning Stretch and Meditation
DTSTART:20241105T140000Z
DTEND:20241105T160000Z
END:VEVENT
END:VCALENDAR
