BEGIN:VCALENDAR
VERSION:2.0
PRODID:-//hacksw/handcal//NONSGML v1.0//EN
CALSCALE:GREGORIAN
BEGIN:VEVENT
UID:69e98e8ba32c6
DTSTAMP:20260423T031419Z
DESCRIPTION:Please join us for When We Were Young: A Musical Celebration of Innocence. This evening of scenes from The 25th Annual Putnam County Spelling Bee\, The Secret Garden\, The Fantasticks\, and You&rsquo\;re a Good Man\, Charlie Brown will make you smile and warm your heart! Free and open to the public.

8 p.m. Nov. 5 &ndash\; Musical Theater Scenes\, directed by faculty member Jennifer Whitehead\, in Jemison Auditorium inside Sanborn Hall\, 23 Elizabeth St.\, Delaware. Admission is free. For more information\, visit www.owu.edu/PerformingArts.
Guests to the university must follow the latest public health recommendations from the Delaware Public Health District and Centers for Disease Control and Prevention. For visitors not fully vaccinated against the coronavirus\, this includes wearing masks at indoor events\, practicing physical distancing\, and washing hands frequently.
All event information is subject to change. For the latest details and additional campus events\, visit&nbsp\;www.owu.edu/events&nbsp\;or &ldquo\;like&rdquo\;&nbsp\;www.facebook.com/OhioWesleyanUniversityNews.
SUMMARY:Musical Theater Scenes
DTSTART:20211106T000000Z
DTEND:20211106T013000Z
END:VEVENT
END:VCALENDAR
