BEGIN:VCALENDAR
VERSION:2.0
PRODID:-//hacksw/handcal//NONSGML v1.0//EN
CALSCALE:GREGORIAN
BEGIN:VEVENT
UID:69e86fab17fb0
DTSTAMP:20260422T065019Z
DESCRIPTION:This is the first of our Music in Our Schools Month events. Come join us on the JAY Wednesday\, March 30\, from 12:15 - 12:45 pm to bang out some stress. We will provide buckets and drum sticks\; this is one drum circle you don't want to miss!
OWU Sponsoring Organization/Office: NAfME Collegiate of OWUContact: Katie Lester at&nbsp\;kllester@owu.edu
&nbsp\;
SUMMARY:NAfME Noise
DTSTART:20220330T161500Z
DTEND:20220330T164500Z
END:VEVENT
END:VCALENDAR
