BEGIN:VCALENDAR
VERSION:2.0
PRODID:-//hacksw/handcal//NONSGML v1.0//EN
CALSCALE:GREGORIAN
BEGIN:VEVENT
UID:69ea8a0516789
DTSTAMP:20260423T210717Z
DESCRIPTION:Please join NAfME in holding our semi annual quesadilla fundraiser! From 9-1:30 we will accept orders using the google form below and deliver them to your door. We offer dairy free and gluten free quesadillas as well! https://forms.gle/9pqK2A3muPcsnskFA
OWU Sponsoring Organization/Office: National Association for Music EducationContact: Holly Robinson at&nbsp\;hmrobinson@owu.edu
SUMMARY:NAfME's Almost Famous Quesadilla Fundraiser
DTSTART:20231028T003000Z
DTEND:20231028T060000Z
END:VEVENT
END:VCALENDAR
