BEGIN:VCALENDAR
VERSION:2.0
PRODID:-//hacksw/handcal//NONSGML v1.0//EN
CALSCALE:GREGORIAN
BEGIN:VEVENT
UID:69ed20cf58d1a
DTSTAMP:20260425T201511Z
DESCRIPTION:The Office of Multicultural Student Affairs invites you to celebrate National Coming Out Day with us!&nbsp\;Join us on the JAYwalk on Sept. 26 from 11:30 AM to 1:30 PM. This is a day for embracing our true selves and supporting our LGBTQ+ community members. Whether you're out and proud\, an ally\, or just curious\, all are welcome!
We will have games\, Drag Queens\, an awesome DJ\, and lots of other interactive games and activities!&nbsp\;&nbsp\;See you there!
OWU Sponsoring Organization/Office: Office of Multicultural Student AffairsContact: Sally Aluso at&nbsp\;omsa@owu.edu
SUMMARY:National Coming Out Day Celebration
DTSTART:20230926T153000Z
DTEND:20230926T173000Z
END:VEVENT
END:VCALENDAR
