BEGIN:VCALENDAR
VERSION:2.0
PRODID:-//hacksw/handcal//NONSGML v1.0//EN
CALSCALE:GREGORIAN
BEGIN:VEVENT
UID:69eb4fd6a9c0b
DTSTAMP:20260424T111118Z
DESCRIPTION:Students of ALL majors are invited to join us for our next SOAN Social:
&nbsp\;
Get to Know SOAN Professors and NEW Spring courses
Wed Oct 18th (12:00-1:00)
Elliott Hall 4th Floor Lounge
Free Tacos for Lunch!
&nbsp\;
This Spring\, the SOAN Department is offering 4 BRAND NEW courses on Special Topics (which will not be regularly taught):
&nbsp\;
SOAN 300.10 (Sec 1): Violence &amp\; Society (Prof. Veda Kim)
SOAN 300.10 (Sec 2): Sport &amp\; Society (Prof. Sean Brown)
SOAN 300.10 (Sec 3): Drugs &amp\; Society (Prof. Joe Dixon)
SOAN 300.10 (Sec 4): College &amp\; Inequality (Prof. Sam Mitchell)
&nbsp\;
So join the SOAN department on Oct 18th to get to know&nbsp\;all your SOAN professors and learn more about the new courses above! Discover what the new courses will cover and ask questions to help in your course planning. And get free tacos for lunch!
&nbsp\;
OWU Sponsoring Organization/Office: SOAN DepartmentContact: Paul Dean at&nbsp\;psdean@owu.edu
&nbsp\;

SUMMARY:New Spring SOAN Courses &amp\; Lunch
DTSTART:20231018T160000Z
DTEND:20231018T170000Z
END:VEVENT
END:VCALENDAR
