BEGIN:VCALENDAR
VERSION:2.0
PRODID:-//hacksw/handcal//NONSGML v1.0//EN
CALSCALE:GREGORIAN
BEGIN:VEVENT
UID:69e85af88a9ed
DTSTAMP:20260422T052200Z
DESCRIPTION:New Vistas in Astronomy lecture featuring Amy Sardone\, Ph.D.\, Sardone will discuss &ldquo\;Our Friendly Neighborhood Galaxies&rdquo\; at Ohio Wesleyan&rsquo\;s Perkins Observatory\, 3199 Columbus Pike (U.S. 23)\, Delaware. Tickets are $10 in advance or $12 on the day of the event and at the door. Reserve tickets by calling (740) 363-1257. Learn more at owu.edu/perkins.
SUMMARY:New Vistas in Astronomy Lecture: ‘Our Friendly Neighborhood Galaxies’
DTSTART:20220415T000000Z
DTEND:20220415T010000Z
END:VEVENT
END:VCALENDAR
