BEGIN:VCALENDAR
VERSION:2.0
PRODID:-//hacksw/handcal//NONSGML v1.0//EN
CALSCALE:GREGORIAN
BEGIN:VEVENT
UID:69ecf4b385f8e
DTSTAMP:20260425T170659Z
DESCRIPTION:New York Arts Program (NYAP) faculty and staff will host an info session on Wednesday\, September 27th at 12pm in Hamilton Williams Campus Center on the 2nd floor. Join us to learn more about spending a semester living\, working and creating in NYC for credit.
We will also be moderating a NYAP alumni panel for the OWU Connections Conference on Thursday\, September 28th at 3pm. These are two great opportunities to get a sense of what interning in the arts and creative industries with NYAP can do for you! Questions? Email Helena Enders at&nbsp\;helena@nyartsprogram.org
OWU Sponsoring Organization/Office: New York Arts ProgramContact: Helena Enders at&nbsp\;hjenders@owu.edu
SUMMARY:New York Arts Program On-Campus Info Session
DTSTART:20230927T160000Z
DTEND:20230927T170000Z
END:VEVENT
END:VCALENDAR
