BEGIN:VCALENDAR
VERSION:2.0
PRODID:-//hacksw/handcal//NONSGML v1.0//EN
CALSCALE:GREGORIAN
BEGIN:VEVENT
UID:69ea37743e338
DTSTAMP:20260423T151500Z
DESCRIPTION:Celebrate the holidays with Ohio Wesleyan! Join President Matt vandenBerg and OWU alumni\, family\, and friends at the NYC Holiday Party.
Thursday\, December 5\, 6:30-9:30 p.m.New York City Holiday Party- Register HerePloume Social Club at The Ivory Peacock
New this year! Extended NYC Holiday Party time\, 6:30-9:30 p.m. 
SUMMARY:New York City Holiday Party
DTSTART:20241205T233000Z
DTEND:20241206T023000Z
END:VEVENT
END:VCALENDAR
