BEGIN:VCALENDAR
VERSION:2.0
PRODID:-//hacksw/handcal//NONSGML v1.0//EN
CALSCALE:GREGORIAN
BEGIN:VEVENT
UID:69e7a9ebea99b
DTSTAMP:20260421T164635Z
DESCRIPTION:Celebrate the holidays with Ohio Wesleyan! Join President Matt vandenBerg and OWU alumni\, family\, and friends to enjoy the spirit of the season at the New York City Holiday Party!
Register here!
SUMMARY:New York City Holiday Party
DTSTART:20231208T000000Z
DTEND:20231208T020000Z
END:VEVENT
END:VCALENDAR
