BEGIN:VCALENDAR
VERSION:2.0
PRODID:-//hacksw/handcal//NONSGML v1.0//EN
CALSCALE:GREGORIAN
BEGIN:VEVENT
UID:69e8f2c7ab725
DTSTAMP:20260422T160943Z
DESCRIPTION:Come visit the Hamilton Williams Campus Center for our monthly Funtrium featuring hot apple cider and Dipped Donuts today from 12-1! Located in front of the fire place in the atrium\, we will also be providing information about how to get involved on campus next semester! We hope to see you there!
OWU Sponsoring Organization/Office: Student Involvement OfficeContact: Kaia Pierce at&nbsp\;involveu@owu.edu
SUMMARY:November Funtrium
DTSTART:20231115T170000Z
DTEND:20231115T170000Z
END:VEVENT
END:VCALENDAR
