BEGIN:VCALENDAR
VERSION:2.0
PRODID:-//hacksw/handcal//NONSGML v1.0//EN
CALSCALE:GREGORIAN
BEGIN:VEVENT
UID:69e95eb498e12
DTSTAMP:20260422T235012Z
DESCRIPTION:Come for an up-close visit of Ohio Wesleyan University at one of our Open Houses this Fall. Hear about the charm of OWU and explore it for yourself through our interactive and interpersonal twist on the campus tour!
Register HERE
SUMMARY:November Open House
DTSTART:20231111T140000Z
DTEND:20231111T180000Z
END:VEVENT
END:VCALENDAR
