BEGIN:VCALENDAR
VERSION:2.0
PRODID:-//hacksw/handcal//NONSGML v1.0//EN
CALSCALE:GREGORIAN
BEGIN:VEVENT
UID:69eb0f3e0af24
DTSTAMP:20260424T063542Z
DESCRIPTION:Come for an up-close visit of Ohio Wesleyan University at one of our Open Houses this Fall. Hear about the charm of OWU and explore it for yourself through our interactive and interpersonal twist on the campus tour!
Register HERE
SUMMARY:October Open House
DTSTART:20231021T130000Z
DTEND:20231021T170000Z
END:VEVENT
END:VCALENDAR
