BEGIN:VCALENDAR
VERSION:2.0
PRODID:-//hacksw/handcal//NONSGML v1.0//EN
CALSCALE:GREGORIAN
BEGIN:VEVENT
UID:69eaea8b309b0
DTSTAMP:20260424T035907Z
DESCRIPTION:Ohio Art League Annual Fall Exhibition\, at Ohio Wesleyan's Richard M. Ross Art Museum\, 60 S. Sandusky St.\, Delaware. The juried show features a host of media from artists across the state. With nearly 400 members\, the Columbus-based Ohio Art League seeks to empower artists by fostering a vibrant artistic community and providing diverse opportunities to showcase their work\, connect with fellow creatives\, and expand their knowledge and skills. Learn more at https://oal.org. During the academic year\, the Ross is open Tuesday\, Wednesday\, and Friday from 10 a.m. to 5 p.m.\; Thursday from 10 a.m. to 9 p.m.\; and Sunday from 1 p.m. to 5 p.m. The museum is handicap-accessible and admission is always free. Call (740) 368-3606 or visit owu.edu/ross for more information.
SUMMARY:Ohio Art League Annual Fall Exhibition
DTSTART:20240813T140000Z
DTEND:20240813T210000Z
END:VEVENT
END:VCALENDAR
