BEGIN:VCALENDAR
VERSION:2.0
PRODID:-//hacksw/handcal//NONSGML v1.0//EN
CALSCALE:GREGORIAN
BEGIN:VEVENT
UID:69e85f9782d38
DTSTAMP:20260422T054143Z
DESCRIPTION:Ohio Wesleyan Honor Choir Festival Concert\, in Gray Chapel inside University Hall\, 61 S. Sandusky St.\, Delaware. Admission is free. For more information\, visit&nbsp\;owu.edu/PerformingArts.
SUMMARY:Ohio Wesleyan Honor Choir Festival Concert
DTSTART:20241111T233000Z
DTEND:20241112T013000Z
END:VEVENT
END:VCALENDAR
