BEGIN:VCALENDAR
VERSION:2.0
PRODID:-//hacksw/handcal//NONSGML v1.0//EN
CALSCALE:GREGORIAN
BEGIN:VEVENT
UID:69ed09f910c19
DTSTAMP:20260425T183745Z
DESCRIPTION:[L] Ohio Wesleyan University Baseball at OberlinL 4-13Streaming Video: https://www.oberlinsportsnetwork.com/index.html https://www.battlingbishops.com/calendar.aspx?game_id=8793&amp\;sport_id=1
SUMMARY:Ohio Wesleyan University Baseball at Oberlin
DTSTART:20240504T153000Z
DTEND:20240504T183000Z
END:VEVENT
END:VCALENDAR
