BEGIN:VCALENDAR
VERSION:2.0
PRODID:-//hacksw/handcal//NONSGML v1.0//EN
CALSCALE:GREGORIAN
BEGIN:VEVENT
UID:69ed0a009b20f
DTSTAMP:20260425T183752Z
DESCRIPTION:[W] Ohio Wesleyan University Baseball at OberlinW 2-1Streaming Video: https://www.oberlinsportsnetwork.com/index.html https://www.battlingbishops.com/calendar.aspx?game_id=8963&amp\;sport_id=1
SUMMARY:Ohio Wesleyan University Baseball at Oberlin
DTSTART:20240504T183000Z
DTEND:20240504T213000Z
END:VEVENT
END:VCALENDAR
