BEGIN:VCALENDAR
VERSION:2.0
PRODID:-//hacksw/handcal//NONSGML v1.0//EN
CALSCALE:GREGORIAN
BEGIN:VEVENT
UID:69ecf55a72183
DTSTAMP:20260425T170946Z
DESCRIPTION:[W] Ohio Wesleyan University Baseball at OtterbeinW 11-8 https://www.battlingbishops.com/calendar.aspx?game_id=8794&amp\;sport_id=1
SUMMARY:Ohio Wesleyan University Baseball at Otterbein
DTSTART:20240505T170000Z
DTEND:20240505T200000Z
END:VEVENT
END:VCALENDAR
