BEGIN:VCALENDAR
VERSION:2.0
PRODID:-//hacksw/handcal//NONSGML v1.0//EN
CALSCALE:GREGORIAN
BEGIN:VEVENT
UID:69ed645523b31
DTSTAMP:20260426T010317Z
DESCRIPTION:[L] Ohio Wesleyan University Baseball at WabashL 3-19Streaming Video: https://sports.wabash.edu/sports/2021/10/28/wabash-college-video-network.aspx https://www.battlingbishops.com/calendar.aspx?game_id=8954&amp\;sport_id=1
SUMMARY:Ohio Wesleyan University Baseball at Wabash
DTSTART:20240430T190000Z
DTEND:20240430T220000Z
END:VEVENT
END:VCALENDAR
