BEGIN:VCALENDAR
VERSION:2.0
PRODID:-//hacksw/handcal//NONSGML v1.0//EN
CALSCALE:GREGORIAN
BEGIN:VEVENT
UID:69eca6b20401e
DTSTAMP:20260425T113410Z
DESCRIPTION:Ohio Wesleyan University Baseball vs NCAC tournament https://www.battlingbishops.com/calendar.aspx?game_id=8795&amp\;sport_id=1
SUMMARY:Ohio Wesleyan University Baseball vs NCAC tournament
DTSTART:20240509
DTEND:20240509
END:VEVENT
END:VCALENDAR
