BEGIN:VCALENDAR
VERSION:2.0
PRODID:-//hacksw/handcal//NONSGML v1.0//EN
CALSCALE:GREGORIAN
BEGIN:VEVENT
UID:69e85af8bef00
DTSTAMP:20260422T052200Z
DESCRIPTION:[L] Ohio Wesleyan University Baseball vs Ohio NorthernL 1-9Streaming Video: https://portal.stretchinternet.com/owu/ For more information: https://www.battlingbishops.com/calendar.aspx?id=7610
SUMMARY:Ohio Wesleyan University Baseball vs Ohio Northern
DTSTART:20220330T200000Z
DTEND:20220330T230000Z
END:VEVENT
END:VCALENDAR
