BEGIN:VCALENDAR
VERSION:2.0
PRODID:-//hacksw/handcal//NONSGML v1.0//EN
CALSCALE:GREGORIAN
BEGIN:VEVENT
UID:69e7a9ea8dfe3
DTSTAMP:20260421T164634Z
DESCRIPTION:For more information: https://battlingbishops.com/sports/esports/schedule
SUMMARY:Ohio Wesleyan University Esports Carroll
DTSTART:20240927T120000Z
DTEND:20240927T150000Z
END:VEVENT
END:VCALENDAR
