BEGIN:VCALENDAR
VERSION:2.0
PRODID:-//hacksw/handcal//NONSGML v1.0//EN
CALSCALE:GREGORIAN
BEGIN:VEVENT
UID:69e7d04a09895
DTSTAMP:20260421T193018Z
DESCRIPTION:For more information: https://battlingbishops.com/sports/esports/schedule
SUMMARY:Ohio Wesleyan University Esports Catawba Valley Community College
DTSTART:20241105T120000Z
DTEND:20241105T150000Z
END:VEVENT
END:VCALENDAR
