BEGIN:VCALENDAR
VERSION:2.0
PRODID:-//hacksw/handcal//NONSGML v1.0//EN
CALSCALE:GREGORIAN
BEGIN:VEVENT
UID:69e796470d512
DTSTAMP:20260421T152247Z
DESCRIPTION:For more information: https://battlingbishops.com/sports/esports/schedule
SUMMARY:Ohio Wesleyan University Esports Cleveland State - Final
DTSTART:20231208T233000Z
DTEND:20231209T023000Z
END:VEVENT
END:VCALENDAR
