BEGIN:VCALENDAR
VERSION:2.0
PRODID:-//hacksw/handcal//NONSGML v1.0//EN
CALSCALE:GREGORIAN
BEGIN:VEVENT
UID:69e60b8f01523
DTSTAMP:20260420T111839Z
DESCRIPTION:For more information: https://battlingbishops.com/sports/esports/schedule
SUMMARY:Ohio Wesleyan University Esports Defiance
DTSTART:20241018T120000Z
DTEND:20241018T150000Z
END:VEVENT
END:VCALENDAR
