BEGIN:VCALENDAR
VERSION:2.0
PRODID:-//hacksw/handcal//NONSGML v1.0//EN
CALSCALE:GREGORIAN
BEGIN:VEVENT
UID:69e7bc877bee1
DTSTAMP:20260421T180559Z
DESCRIPTION:For more information: https://battlingbishops.com/sports/esports/schedule
SUMMARY:Ohio Wesleyan University Esports Florida Gulf Coast
DTSTART:20241104T130000Z
DTEND:20241104T160000Z
END:VEVENT
END:VCALENDAR
