BEGIN:VCALENDAR
VERSION:2.0
PRODID:-//hacksw/handcal//NONSGML v1.0//EN
CALSCALE:GREGORIAN
BEGIN:VEVENT
UID:69eaeab9921e9
DTSTAMP:20260424T035953Z
DESCRIPTION:For more information: https://battlingbishops.com/sports/esports/schedule
SUMMARY:Ohio Wesleyan University Esports Howard Community College
DTSTART:20231024T000000Z
DTEND:20231024T030000Z
END:VEVENT
END:VCALENDAR
