BEGIN:VCALENDAR
VERSION:2.0
PRODID:-//hacksw/handcal//NONSGML v1.0//EN
CALSCALE:GREGORIAN
BEGIN:VEVENT
UID:69ed27b3ed105
DTSTAMP:20260425T204435Z
DESCRIPTION:For more information: https://battlingbishops.com/sports/esports/schedule
SUMMARY:Ohio Wesleyan University Esports Kettering
DTSTART:20250205T010000Z
DTEND:20250205T040000Z
END:VEVENT
END:VCALENDAR
