BEGIN:VCALENDAR
VERSION:2.0
PRODID:-//hacksw/handcal//NONSGML v1.0//EN
CALSCALE:GREGORIAN
BEGIN:VEVENT
UID:69ea4cc2065f8
DTSTAMP:20260423T164554Z
DESCRIPTION:For more information: https://battlingbishops.com/sports/esports/schedule
SUMMARY:Ohio Wesleyan University Esports King's
DTSTART:20231031T230000Z
DTEND:20231101T020000Z
END:VEVENT
END:VCALENDAR
