BEGIN:VCALENDAR
VERSION:2.0
PRODID:-//hacksw/handcal//NONSGML v1.0//EN
CALSCALE:GREGORIAN
BEGIN:VEVENT
UID:69e9ac66a1b05
DTSTAMP:20260423T052142Z
DESCRIPTION:For more information: https://battlingbishops.com/sports/esports/schedule
SUMMARY:Ohio Wesleyan University Esports Loyola (Ill.)
DTSTART:20231108T000000Z
DTEND:20231108T030000Z
END:VEVENT
END:VCALENDAR
