BEGIN:VCALENDAR
VERSION:2.0
PRODID:-//hacksw/handcal//NONSGML v1.0//EN
CALSCALE:GREGORIAN
BEGIN:VEVENT
UID:69eb626c05af8
DTSTAMP:20260424T123036Z
DESCRIPTION:For more information: https://battlingbishops.com/sports/esports/schedule
SUMMARY:Ohio Wesleyan University Esports Michigan
DTSTART:20231017T230000Z
DTEND:20231018T020000Z
END:VEVENT
END:VCALENDAR
