BEGIN:VCALENDAR
VERSION:2.0
PRODID:-//hacksw/handcal//NONSGML v1.0//EN
CALSCALE:GREGORIAN
BEGIN:VEVENT
UID:69ea379ca990b
DTSTAMP:20260423T151540Z
DESCRIPTION:For more information: https://battlingbishops.com/sports/esports/schedule
SUMMARY:Ohio Wesleyan University Esports Misericordia
DTSTART:20231102T003000Z
DTEND:20231102T033000Z
END:VEVENT
END:VCALENDAR
