BEGIN:VCALENDAR
VERSION:2.0
PRODID:-//hacksw/handcal//NONSGML v1.0//EN
CALSCALE:GREGORIAN
BEGIN:VEVENT
UID:69e7be15ca499
DTSTAMP:20260421T181237Z
DESCRIPTION:For more information: https://battlingbishops.com/sports/esports/schedule
SUMMARY:Ohio Wesleyan University Esports Murray State
DTSTART:20240926T120000Z
DTEND:20240926T150000Z
END:VEVENT
END:VCALENDAR
