BEGIN:VCALENDAR
VERSION:2.0
PRODID:-//hacksw/handcal//NONSGML v1.0//EN
CALSCALE:GREGORIAN
BEGIN:VEVENT
UID:69e7e30f94988
DTSTAMP:20260421T205023Z
DESCRIPTION:For more information: https://battlingbishops.com/sports/esports/schedule
SUMMARY:Ohio Wesleyan University Esports Murray State
DTSTART:20241106T110000Z
DTEND:20241106T140000Z
END:VEVENT
END:VCALENDAR
