BEGIN:VCALENDAR
VERSION:2.0
PRODID:-//hacksw/handcal//NONSGML v1.0//EN
CALSCALE:GREGORIAN
BEGIN:VEVENT
UID:69e8102c6c1b0
DTSTAMP:20260422T000252Z
DESCRIPTION:For more information: https://battlingbishops.com/sports/esports/schedule
SUMMARY:Ohio Wesleyan University Esports North Carolina-Wilmington
DTSTART:20241107T130000Z
DTEND:20241107T160000Z
END:VEVENT
END:VCALENDAR
