BEGIN:VCALENDAR
VERSION:2.0
PRODID:-//hacksw/handcal//NONSGML v1.0//EN
CALSCALE:GREGORIAN
BEGIN:VEVENT
UID:69e750be3430e
DTSTAMP:20260421T102606Z
DESCRIPTION:For more information: https://battlingbishops.com/sports/esports/schedule
SUMMARY:Ohio Wesleyan University Esports Northern Iowa
DTSTART:20241101T133000Z
DTEND:20241101T163000Z
END:VEVENT
END:VCALENDAR
