BEGIN:VCALENDAR
VERSION:2.0
PRODID:-//hacksw/handcal//NONSGML v1.0//EN
CALSCALE:GREGORIAN
BEGIN:VEVENT
UID:69e81484c9fad
DTSTAMP:20260422T002124Z
DESCRIPTION:For more information: https://battlingbishops.com/sports/esports/schedule
SUMMARY:Ohio Wesleyan University Esports Ontario Tech
DTSTART:20240923T120000Z
DTEND:20240923T150000Z
END:VEVENT
END:VCALENDAR
