BEGIN:VCALENDAR
VERSION:2.0
PRODID:-//hacksw/handcal//NONSGML v1.0//EN
CALSCALE:GREGORIAN
BEGIN:VEVENT
UID:69e94b8c185f6
DTSTAMP:20260422T222828Z
DESCRIPTION:For more information: https://battlingbishops.com/sports/esports/schedule
SUMMARY:Ohio Wesleyan University Esports Pace - Semifinal
DTSTART:20241118T130000Z
DTEND:20241118T160000Z
END:VEVENT
END:VCALENDAR
