BEGIN:VCALENDAR
VERSION:2.0
PRODID:-//hacksw/handcal//NONSGML v1.0//EN
CALSCALE:GREGORIAN
BEGIN:VEVENT
UID:69ead61855fc5
DTSTAMP:20260424T023152Z
DESCRIPTION:For more information: https://battlingbishops.com/sports/esports/schedule
SUMMARY:Ohio Wesleyan University Esports Saginaw Valley State
DTSTART:20231024T230000Z
DTEND:20231025T020000Z
END:VEVENT
END:VCALENDAR
