BEGIN:VCALENDAR
VERSION:2.0
PRODID:-//hacksw/handcal//NONSGML v1.0//EN
CALSCALE:GREGORIAN
BEGIN:VEVENT
UID:69eb3a867cda4
DTSTAMP:20260424T094022Z
DESCRIPTION:For more information: https://battlingbishops.com/sports/esports/schedule
SUMMARY:Ohio Wesleyan University Esports Toronto-Mississauga
DTSTART:20231019T230000Z
DTEND:20231020T020000Z
END:VEVENT
END:VCALENDAR
