BEGIN:VCALENDAR
VERSION:2.0
PRODID:-//hacksw/handcal//NONSGML v1.0//EN
CALSCALE:GREGORIAN
BEGIN:VEVENT
UID:69ea6283eb4f0
DTSTAMP:20260423T181843Z
DESCRIPTION:For more information: https://battlingbishops.com/sports/esports/schedule
SUMMARY:Ohio Wesleyan University Esports Trent
DTSTART:20231031T000000Z
DTEND:20231031T030000Z
END:VEVENT
END:VCALENDAR
