BEGIN:VCALENDAR
VERSION:2.0
PRODID:-//hacksw/handcal//NONSGML v1.0//EN
CALSCALE:GREGORIAN
BEGIN:VEVENT
UID:69e77ebc08889
DTSTAMP:20260421T134220Z
DESCRIPTION:For more information: https://battlingbishops.com/sports/esports/schedule
SUMMARY:Ohio Wesleyan University Esports Union Commonwealth
DTSTART:20240929T080000Z
DTEND:20240929T110000Z
END:VEVENT
END:VCALENDAR
