BEGIN:VCALENDAR
VERSION:2.0
PRODID:-//hacksw/handcal//NONSGML v1.0//EN
CALSCALE:GREGORIAN
BEGIN:VEVENT
UID:69ed3b0bcbccf
DTSTAMP:20260425T220707Z
DESCRIPTION:For more information: https://battlingbishops.com/sports/esports/schedule
SUMMARY:Ohio Wesleyan University Esports Washtenaw Community College
DTSTART:20250206T000000Z
DTEND:20250206T030000Z
END:VEVENT
END:VCALENDAR
