BEGIN:VCALENDAR
VERSION:2.0
PRODID:-//hacksw/handcal//NONSGML v1.0//EN
CALSCALE:GREGORIAN
BEGIN:VEVENT
UID:69ed249be959e
DTSTAMP:20260425T203123Z
DESCRIPTION:For more information: https://battlingbishops.com/sports/esports/schedule
SUMMARY:Ohio Wesleyan University Esports Waynesburg
DTSTART:20250205T020000Z
DTEND:20250205T045959Z
END:VEVENT
END:VCALENDAR
