BEGIN:VCALENDAR
VERSION:2.0
PRODID:-//hacksw/handcal//NONSGML v1.0//EN
CALSCALE:GREGORIAN
BEGIN:VEVENT
UID:69e9bff6f0057
DTSTAMP:20260423T064510Z
DESCRIPTION:Ohio Wesleyan University Esports  Widener - Quarterfinal
SUMMARY:Ohio Wesleyan University Esports Widener - Quarterfinal
DTSTART:20241124
DTEND:20241124
END:VEVENT
END:VCALENDAR
