BEGIN:VCALENDAR
VERSION:2.0
PRODID:-//hacksw/handcal//NONSGML v1.0//EN
CALSCALE:GREGORIAN
BEGIN:VEVENT
UID:69eb76fe5bb08
DTSTAMP:20260424T135822Z
DESCRIPTION:For more information: https://battlingbishops.com/sports/esports/schedule
SUMMARY:Ohio Wesleyan University Esports Wilkes
DTSTART:20231016T233000Z
DTEND:20231017T023000Z
END:VEVENT
END:VCALENDAR
