BEGIN:VCALENDAR
VERSION:2.0
PRODID:-//hacksw/handcal//NONSGML v1.0//EN
CALSCALE:GREGORIAN
BEGIN:VEVENT
UID:69ecbec53772b
DTSTAMP:20260425T131653Z
DESCRIPTION:[W] Ohio Wesleyan University Field Hockey at AlleghenyW 6-0Streaming Video: https://pacdigitalnetwork.com/allegheny/ https://www.battlingbishops.com/calendar.aspx?game_id=8475&amp\;sport_id=2
SUMMARY:Ohio Wesleyan University Field Hockey at Allegheny
DTSTART:20230930T153000Z
DTEND:20230930T183000Z
END:VEVENT
END:VCALENDAR
